BEGIN:VCALENDAR
VERSION:2.0
PRODID:https://www.evry.com/
BEGIN:VEVENT
UID:https://www.evry.com/in/events/2023/evry-usa-is-an-exhibitor-at-himss23/
DTSTAMP:20260426T020822Z
DTSTART:20230417T063000Z
DTEND:20230421T173000Z
SUMMARY:EVRY USA is an exhibitor at HIMSS23
LOCATION:
END:VEVENT
END:VCALENDAR
